BEGIN:VCALENDAR
PRODID:-//Feedo Feed//NONSGML v1.0//EN
VERSION:2.0
CALSCALE:GREGORIAN
METHOD:PUBLISH
X-WR-CALNAME:Visite Pompiers Steinsel
X-WR-CALDESC:
X-MS-OLK-FORCEINSPECTOROPEN:TRUE
BEGIN:VEVENT
DTSTAMP:20200421T134040Z
DTSTART:20191012T140000Z
DTEND:20191012T140000Z
TRANSP:TRANSPARENT
UID:492019-10-12
SUMMARY:Visite Pompiers Steinsel
DESCRIPTION:
URL:http://alaec.lu/index.php/fr/accueil/activites-precedentes/visite-pompiers-steinsel?format=html
CATEGORIES:Activité ALAEC
GEO:
LOCATION:
END:VEVENT
END:VCALENDAR