BEGIN:VCALENDAR
PRODID:-//Feedo Feed//NONSGML v1.0//EN
VERSION:2.0
CALSCALE:GREGORIAN
METHOD:PUBLISH
X-WR-CALNAME:Soirée des parents
X-WR-CALDESC:Soirée de rencontre et échange des parents d'enfants avec une cardiopathie congénitale.
X-MS-OLK-FORCEINSPECTOROPEN:TRUE
BEGIN:VEVENT
DTSTAMP:20200421T134126Z
DTSTART:20190308T190000Z
DTEND:20190308T190000Z
TRANSP:TRANSPARENT
UID:452019-03-08
SUMMARY:Soirée des parents
DESCRIPTION:Soirée de rencontre et échange des parents d'enfants avec une cardiopathie congénitale.
URL:http://alaec.lu/index.php/fr/accueil/activites-precedentes/soiree-des-parents?format=html
CATEGORIES:Activité ALAEC
GEO:
LOCATION:Pizza Hut
END:VEVENT
END:VCALENDAR