BEGIN:VCALENDAR
PRODID:-//Feedo Feed//NONSGML v1.0//EN
VERSION:2.0
CALSCALE:GREGORIAN
METHOD:PUBLISH
X-WR-CALNAME:St. Nicolas
X-WR-CALDESC:
X-MS-OLK-FORCEINSPECTOROPEN:TRUE
BEGIN:VEVENT
DTSTAMP:20200811T235443Z
DTSTART:20191124T140000Z
DTEND:20191124T140000Z
TRANSP:TRANSPARENT
UID:482019-11-24
SUMMARY:St. Nicolas
DESCRIPTION:
URL:http://alaec.lu/index.php/de/accueil/activites-precedentes/st-nicolas?format=html
CATEGORIES:Activité ALAEC
GEO:
LOCATION:
END:VEVENT
END:VCALENDAR