BEGIN:VCALENDAR
PRODID:-//Feedo Feed//NONSGML v1.0//EN
VERSION:2.0
CALSCALE:GREGORIAN
METHOD:PUBLISH
X-WR-CALNAME:Journée Europapark Rust
X-WR-CALDESC:Pour les membres et leurs enfants. Aller - retour en bus.
X-MS-OLK-FORCEINSPECTOROPEN:TRUE
BEGIN:VEVENT
DTSTAMP:20200811T235514Z
DTSTART:20190909T060000Z
DTEND:20190909T060000Z
TRANSP:TRANSPARENT
UID:472019-09-09
SUMMARY:Journée Europapark Rust
DESCRIPTION:Pour les membres et leurs enfants. Aller - retour en bus.
URL:http://alaec.lu/index.php/de/accueil/activites-precedentes/journee-europapark-rust?format=html
CATEGORIES:Activité ALAEC
GEO:
LOCATION:Europapark Rust
END:VEVENT
END:VCALENDAR