BEGIN:VCALENDAR
PRODID:-//Feedo Feed//NONSGML v1.0//EN
VERSION:2.0
CALSCALE:GREGORIAN
METHOD:PUBLISH
X-WR-CALNAME:Journée Eifelpark Gondorf
X-WR-CALDESC:Pour les membres et leurs enfants. Aller - retour en bus.
X-MS-OLK-FORCEINSPECTOROPEN:TRUE
BEGIN:VEVENT
DTSTAMP:20200811T235532Z
DTSTART:20190518T090000Z
DTEND:20190518T090000Z
TRANSP:TRANSPARENT
UID:462019-05-18
SUMMARY:Journée Eifelpark Gondorf
DESCRIPTION:Pour les membres et leurs enfants. Aller - retour en bus.
URL:http://alaec.lu/index.php/de/accueil/activites-precedentes/journee-eifelpark-gondorf?format=html
CATEGORIES:Activité ALAEC
GEO:
LOCATION:Eifelpark Gondorf
END:VEVENT
END:VCALENDAR