BEGIN:VCALENDAR
PRODID:-//Feedo Feed//NONSGML v1.0//EN
VERSION:2.0
CALSCALE:GREGORIAN
METHOD:PUBLISH
X-WR-CALNAME:Parc Merveilleux 5.5.2017
X-WR-CALDESC:ALAEC organise pour les enfants de l'association avec leurs parents une visite au parc merveilleux avec café et gâteaux offerts.
X-MS-OLK-FORCEINSPECTOROPEN:TRUE
BEGIN:VEVENT
DTSTAMP:20200811T235748Z
DTSTART:20180505T130000Z
DTEND:20180505T130000Z
TRANSP:TRANSPARENT
UID:392018-05-05
SUMMARY:Parc Merveilleux 5.5.2017
DESCRIPTION:ALAEC organise pour les enfants de l'association avec leurs parents une visite au parc merveilleux avec café et gâteaux offerts.
URL:http://alaec.lu/index.php/de/accueil/activites-precedentes/copy-of-parc-merveilleux-13-5-2017?format=html
CATEGORIES:Activité ALAEC
GEO:49.519750671574705;6.108959952392524
LOCATION:Parc Merveilleux
END:VEVENT
END:VCALENDAR