BEGIN:VCALENDAR
PRODID:-//Feedo Feed//NONSGML v1.0//EN
VERSION:2.0
CALSCALE:GREGORIAN
METHOD:PUBLISH
X-WR-CALNAME:Nieuwpoort 13-15.9.2018
X-WR-CALDESC:ALAEC invite ses membres à un séjours à Nieuwpoort - site balnéaire à la mer du Nord.
X-MS-OLK-FORCEINSPECTOROPEN:TRUE
BEGIN:VEVENT
DTSTAMP:20200811T235721Z
DTSTART:20180912T230000Z
DTEND:20180913T050000Z
TRANSP:TRANSPARENT
UID:402018-09-13
SUMMARY:Nieuwpoort 13-15.9.2018
DESCRIPTION:ALAEC invite ses membres à un séjours à Nieuwpoort - site balnéaire à la mer du Nord.
URL:http://alaec.lu/index.php/de/accueil/activites-precedentes/copy-of-nieuwpoort-10-12-9-2016?format=html
CATEGORIES:Activité ALAEC
GEO:51.12848229999999;2.748015799999962
LOCATION:Nieuwpoort
END:VEVENT
END:VCALENDAR