BEGIN:VCALENDAR
PRODID:-//Feedo Feed//NONSGML v1.0//EN
VERSION:2.0
CALSCALE:GREGORIAN
METHOD:PUBLISH
X-WR-CALNAME:Bowling pour les jeunes
X-WR-CALDESC:Complet
X-MS-OLK-FORCEINSPECTOROPEN:TRUE
BEGIN:VEVENT
DTSTAMP:20200811T235620Z
DTSTART:20190120T140000Z
DTEND:20190120T140000Z
TRANSP:TRANSPARENT
UID:442019-01-20
SUMMARY:Bowling pour les jeunes
DESCRIPTION:Complet
URL:http://alaec.lu/index.php/de/accueil/activites-precedentes/bowling-pour-les-jeunes?format=html
CATEGORIES:Activité ALAEC
GEO:
LOCATION:CK Bowling Center
END:VEVENT
END:VCALENDAR